BEGIN:VCALENDAR
VERSION:2.0
PRODID:-//CTM 20260413-1 //
BEGIN:VEVENT
UID:CTM 202604201776677672
DTSTAMP:20260420T043400 CDT
DTSTART;TZID=Europe/Berlin:20260424T180000
DTEND;TZID=Europe/Berlin:20260424T200000
SUMMARY:Repair café
DESCRIPTION:Repair Café @ Bettembourg/Roeser After Work
LOCATION: 16 Rue Méckenheck - Bierchem
END:VEVENT
END:VCALENDAR
